BEGIN:VCALENDAR
VERSION:2.0
PRODID:-//Outdoor Interiors - ECPv6.15.17.1//NONSGML v1.0//EN
CALSCALE:GREGORIAN
METHOD:PUBLISH
X-WR-CALNAME:Outdoor Interiors
X-ORIGINAL-URL:https://www.outdoorinteriors.com
X-WR-CALDESC:Events for Outdoor Interiors
REFRESH-INTERVAL;VALUE=DURATION:PT1H
X-Robots-Tag:noindex
X-PUBLISHED-TTL:PT1H
BEGIN:VTIMEZONE
TZID:America/Chicago
BEGIN:DAYLIGHT
TZOFFSETFROM:-0600
TZOFFSETTO:-0500
TZNAME:CDT
DTSTART:20250309T080000
END:DAYLIGHT
BEGIN:STANDARD
TZOFFSETFROM:-0500
TZOFFSETTO:-0600
TZNAME:CST
DTSTART:20251102T070000
END:STANDARD
BEGIN:DAYLIGHT
TZOFFSETFROM:-0600
TZOFFSETTO:-0500
TZNAME:CDT
DTSTART:20260308T080000
END:DAYLIGHT
BEGIN:STANDARD
TZOFFSETFROM:-0500
TZOFFSETTO:-0600
TZNAME:CST
DTSTART:20261101T070000
END:STANDARD
BEGIN:DAYLIGHT
TZOFFSETFROM:-0600
TZOFFSETTO:-0500
TZNAME:CDT
DTSTART:20270314T080000
END:DAYLIGHT
BEGIN:STANDARD
TZOFFSETFROM:-0500
TZOFFSETTO:-0600
TZNAME:CST
DTSTART:20271107T070000
END:STANDARD
END:VTIMEZONE
BEGIN:VEVENT
DTSTART;VALUE=DATE:20260609
DTEND;VALUE=DATE:20260615
DTSTAMP:20260424T092456
CREATED:20251118T221042Z
LAST-MODIFIED:20251204T211105Z
UID:10000025-1780963200-1781481599@www.outdoorinteriors.com
SUMMARY:Atlanta Summer Market 2026
DESCRIPTION:
URL:https://www.outdoorinteriors.com/event/atlanta-summer-market-2026/
LOCATION:Atlanta\, Georgia\, AmericasMart Building 1 Showroom 3-E-2\, 240 Peachtree St Suite 2200\, Atlanta\, GA\, 30303\, United States
GEO:33.7613355;-84.3898123
X-APPLE-STRUCTURED-LOCATION;VALUE=URI;X-ADDRESS=Atlanta Georgia AmericasMart Building 1 Showroom 3-E-2 240 Peachtree St Suite 2200 Atlanta GA 30303 United States;X-APPLE-RADIUS=500;X-TITLE=240 Peachtree St Suite 2200:geo:-84.3898123,33.7613355
END:VEVENT
BEGIN:VEVENT
DTSTART;VALUE=DATE:20260721
DTEND;VALUE=DATE:20260724
DTSTAMP:20260424T092456
CREATED:20251118T221241Z
LAST-MODIFIED:20251204T211405Z
UID:10000026-1784592000-1784851199@www.outdoorinteriors.com
SUMMARY:Summer Casual Market Atlanta
DESCRIPTION:
URL:https://www.outdoorinteriors.com/event/summer-casual-market-atlanta/
LOCATION:Atlanta\, Georgia\, AmericasMart Building 1 Showroom 3-E-2\, 240 Peachtree St Suite 2200\, Atlanta\, GA\, 30303\, United States
GEO:33.7613355;-84.3898123
X-APPLE-STRUCTURED-LOCATION;VALUE=URI;X-ADDRESS=Atlanta Georgia AmericasMart Building 1 Showroom 3-E-2 240 Peachtree St Suite 2200 Atlanta GA 30303 United States;X-APPLE-RADIUS=500;X-TITLE=240 Peachtree St Suite 2200:geo:-84.3898123,33.7613355
END:VEVENT
BEGIN:VEVENT
DTSTART;VALUE=DATE:20260915
DTEND;VALUE=DATE:20260919
DTSTAMP:20260424T092456
CREATED:20251118T221507Z
LAST-MODIFIED:20251204T211243Z
UID:10000027-1789430400-1789775999@www.outdoorinteriors.com
SUMMARY:Fall Casual Market Atlanta
DESCRIPTION:
URL:https://www.outdoorinteriors.com/event/fall-casual-market-atlanta/
LOCATION:Atlanta\, Georgia\, AmericasMart Building 1 Showroom 3-E-2\, 240 Peachtree St Suite 2200\, Atlanta\, GA\, 30303\, United States
GEO:33.7613355;-84.3898123
X-APPLE-STRUCTURED-LOCATION;VALUE=URI;X-ADDRESS=Atlanta Georgia AmericasMart Building 1 Showroom 3-E-2 240 Peachtree St Suite 2200 Atlanta GA 30303 United States;X-APPLE-RADIUS=500;X-TITLE=240 Peachtree St Suite 2200:geo:-84.3898123,33.7613355
END:VEVENT
END:VCALENDAR