BEGIN:VCALENDAR
VERSION:2.0
PRODID:-//Outdoor Interiors - ECPv6.15.17.1//NONSGML v1.0//EN
CALSCALE:GREGORIAN
METHOD:PUBLISH
X-ORIGINAL-URL:https://www.outdoorinteriors.com
X-WR-CALDESC:Events for Outdoor Interiors
REFRESH-INTERVAL;VALUE=DURATION:PT1H
X-Robots-Tag:noindex
X-PUBLISHED-TTL:PT1H
BEGIN:VTIMEZONE
TZID:UTC
BEGIN:STANDARD
TZOFFSETFROM:+0000
TZOFFSETTO:+0000
TZNAME:UTC
DTSTART:20170101T000000
END:STANDARD
END:VTIMEZONE
BEGIN:VEVENT
DTSTART;TZID=UTC:20230711T090000
DTEND;TZID=UTC:20230717T180000
DTSTAMP:20260424T123838
CREATED:20221213T031212Z
LAST-MODIFIED:20221213T031222Z
UID:10000015-1689066000-1689616800@www.outdoorinteriors.com
SUMMARY:Atlanta Market
DESCRIPTION:Welcome to Atlanta Market\, the Premier Gift\, Décor and Lifestyle Market.\nHousing is the nation’s largest gift product mix complemented by a broad selection of home décor. Atlanta Market features more than 8\,000 brands across all categories including seasonal\, gourmet\, tabletop\, outdoor and more.
URL:https://www.outdoorinteriors.com/event/atlanta-market/
LOCATION:Atlanta Convention Center at AmericasMart\, Atlanta\, USA\, 240 Peachtree Street NW\, Atlanta\, GA\, 30303\, United States
GEO:37.09024;-95.712891
X-APPLE-STRUCTURED-LOCATION;VALUE=URI;X-ADDRESS=Atlanta Convention Center at AmericasMart Atlanta USA 240 Peachtree Street NW Atlanta GA 30303 United States;X-APPLE-RADIUS=500;X-TITLE=240 Peachtree Street NW:geo:-95.712891,37.09024
END:VEVENT
BEGIN:VEVENT
DTSTART;TZID=UTC:20230110T090000
DTEND;TZID=UTC:20230116T180000
DTSTAMP:20260424T123838
CREATED:20221213T030340Z
LAST-MODIFIED:20221213T030602Z
UID:10000013-1673341200-1673892000@www.outdoorinteriors.com
SUMMARY:Atlanta Gift Show
DESCRIPTION:Atlanta Market is an international fair for home textiles\, gifts\, and furniture. International exhibitors will be showcasing the latest styles\, colors\, and shapes for the upcoming season at this fair. Discover the hottest trends in furniture\, home decor and rugs across all categories. \n\n 
URL:https://www.outdoorinteriors.com/event/atlanta-gift-show/
LOCATION:Atlanta Convention Center at AmericasMart\, Atlanta\, USA\, 240 Peachtree Street NW\, Atlanta\, GA\, 30303\, United States
GEO:37.09024;-95.712891
X-APPLE-STRUCTURED-LOCATION;VALUE=URI;X-ADDRESS=Atlanta Convention Center at AmericasMart Atlanta USA 240 Peachtree Street NW Atlanta GA 30303 United States;X-APPLE-RADIUS=500;X-TITLE=240 Peachtree Street NW:geo:-95.712891,37.09024
END:VEVENT
BEGIN:VEVENT
DTSTART;VALUE=DATE:20210930
DTEND;VALUE=DATE:20211003
DTSTAMP:20260424T123838
CREATED:20180219T171907Z
LAST-MODIFIED:20201029T013044Z
UID:10000011-1632960000-1633219199@www.outdoorinteriors.com
SUMMARY:True Value Fall Reunion 2021
DESCRIPTION:True Value Reunion is a gathering of True Value co-op members\, vendors\, its retailers & associates. It’s a special time when we come together to share details about those big ideas and game changers that excite our imagination and shape the future of the retail industry. \nEach Reunion is focused on delivering exceptional value. True Value Company\, headquartered in Chicago\, is one of the world’s largest member-owned cooperatives. Our cooperative includes approximately 4\,400 independent retail locations in 63 countries. With our exciting store format\, we’ve created a compelling retail experience for customers and a winning opportunity for entrepreneur-retailers. \n \n  \n 
URL:https://www.outdoorinteriors.com/event/true-value-fall-reunion-2021/
LOCATION:McCormick Place\, 2301 S Lake Shore Dr\, Chicago\, IL\, 60616\, United States
GEO:41.8526229;-87.6119577
X-APPLE-STRUCTURED-LOCATION;VALUE=URI;X-ADDRESS=McCormick Place 2301 S Lake Shore Dr Chicago IL 60616 United States;X-APPLE-RADIUS=500;X-TITLE=2301 S Lake Shore Dr:geo:-87.6119577,41.8526229
END:VEVENT
BEGIN:VEVENT
DTSTART;VALUE=DATE:20210921
DTEND;VALUE=DATE:20210925
DTSTAMP:20260424T123838
CREATED:20170928T210023Z
LAST-MODIFIED:20201029T013003Z
UID:10000010-1632182400-1632527999@www.outdoorinteriors.com
SUMMARY:Casual Market Chicago
DESCRIPTION:Casual Market Chicago is a four-day trade show that provides retailers with a destination to find all things related to outdoor and casual living. See the newest\, most innovative products from leading manufacturers around the world and discover the latest trends in color\, product design\, fabric patterns and more all under one roof.
URL:https://www.outdoorinteriors.com/event/casual-market-chicago/
LOCATION:Merchandise Mart – Chicago\, 222 Merchandise Mart Plaza\, Chicago\, IL\, United States
GEO:41.8884096;-87.6354498
X-APPLE-STRUCTURED-LOCATION;VALUE=URI;X-ADDRESS=Merchandise Mart – Chicago 222 Merchandise Mart Plaza Chicago IL United States;X-APPLE-RADIUS=500;X-TITLE=222 Merchandise Mart Plaza:geo:-87.6354498,41.8884096
END:VEVENT
BEGIN:VEVENT
DTSTART;TZID=UTC:20210511T080000
DTEND;TZID=UTC:20210513T170000
DTSTAMP:20260424T123838
CREATED:20181207T223219Z
LAST-MODIFIED:20201029T012657Z
UID:10000012-1620720000-1620925200@www.outdoorinteriors.com
SUMMARY:National Hardware Show
DESCRIPTION:About the National Hardware Show\nAt the National Hardware\, you’ll find everything you need to move your business forward including new buying opportunities\, merchandising ideas & solutions\, money-saving deals & face-to-face networking opportunities. The future of home improvement is here.
URL:https://www.outdoorinteriors.com/event/national-hardware-show-2020/
LOCATION:Las Vegas Convention Center
END:VEVENT
BEGIN:VEVENT
DTSTART;TZID=UTC:20180508T080000
DTEND;TZID=UTC:20180510T170000
DTSTAMP:20260424T123838
CREATED:20170928T202945Z
LAST-MODIFIED:20220428T021520Z
UID:10000009-1525766400-1525971600@www.outdoorinteriors.com
SUMMARY:National Hardware Show - Booth # 10121
DESCRIPTION:Find everything you need to move your business forward at the 2017 National Hardware Show\, where you will see thousands of exhibitors representing 15 major product categories\, and a Show floor layout that will help you find the products & exhibitors you’re looking for. \nShow Floor Hours\nTuesday\, May 8 | 9:00am – 5:00pm\nWednesday\, May 9 | 9:00am – 5:00pm\nThursday\, May 10 | 9:00am – 1:00pm \n  \nTailgate\, Backyard & BBQ Hours\nTuesday\, May 8 | 9:00am – 5:00pm\nWednesday\, May 9 | 9:00am – 6:30pm\nThursday\, May 10 | 9:00am – 1:00pm
URL:https://www.outdoorinteriors.com/event/national-hardware-show/
LOCATION:Las Vegas Convention Center\, 3150 Paradise Rd\,\, Las Vegas\, NV\, 89109\, United States
GEO:36.1311282;-115.1511192
X-APPLE-STRUCTURED-LOCATION;VALUE=URI;X-ADDRESS=Las Vegas Convention Center 3150 Paradise Rd Las Vegas NV 89109 United States;X-APPLE-RADIUS=500;X-TITLE=3150 Paradise Rd\,:geo:-115.1511192,36.1311282
END:VEVENT
END:VCALENDAR